BEGIN:VCALENDAR
VERSION:2.0
PRODID:-//Tukios.com/
BEGIN:VEVENT
UID:5e132115-d8e9-4429-b340-f2b11f02ad35@obits.csnh.com
DTSTAMP:20260421T210614Z
DTSTART:20260509T150000Z
DTEND:20260509T160000Z
SUMMARY:Funeral Service
DESCRIPTION:
URL:https://obits.csnh.com/carol-tucker
LOCATION:West Lebanon Congregational Church 18 Maple Street  Lebanon NH 
	03784
GEO:43.6456233;-72.3081005
END:VEVENT
END:VCALENDAR