BEGIN:VCALENDAR
VERSION:2.0
PRODID:-//Tukios.com/
BEGIN:VEVENT
UID:0ab75714-db57-4f87-bde6-843cb57fb818@obits.csnh.com
DTSTAMP:20260425T000847Z
DTSTART:20260501T210000Z
DTEND:20260501T230000Z
SUMMARY:Memorial Gathering
DESCRIPTION:
URL:https://obits.csnh.com/donald-deihle
LOCATION:Cremation Society of NH 243 Hanover Street  Manchester NH 03104
GEO:42.9904051;-71.4570692
END:VEVENT
END:VCALENDAR