BEGIN:VCALENDAR
VERSION:2.0
PRODID:-//Tukios.com/
BEGIN:VEVENT
UID:e6b51639-0621-4eba-8eaa-f114acea0a6b@obits.csnh.com
DTSTAMP:20260422T232130Z
DTSTART:20260516T140000Z
DTEND:20260516T160000Z
SUMMARY:Memorial Service
DESCRIPTION:
URL:https://obits.csnh.com/james-haddon
LOCATION: 172 King Street  Boscawen NH 03303
GEO:43.3137379;-71.6175739
END:VEVENT
END:VCALENDAR