BEGIN:VCALENDAR
VERSION:2.0
PRODID:-//Tukios.com/
BEGIN:VEVENT
UID:74709ca6-166f-43a3-b9de-197039aff0ab@obits.csnh.com
DTSTAMP:20260420T234255Z
DTSTART:20260423T150000Z
DTEND:20260423T170000Z
SUMMARY:Celebration of Life
DESCRIPTION:
URL:https://obits.csnh.com/kamalaben-dharmpal
LOCATION: 243 Hanover Street  Manchester NH 03104
GEO:42.9903818;-71.4571167
END:VEVENT
END:VCALENDAR