BEGIN:VCALENDAR
VERSION:2.0
PRODID:-//Tukios.com/
BEGIN:VEVENT
UID:f02ece90-b30d-412a-ada4-8ae0d81fe7bd@obits.csnh.com
DTSTAMP:20260422T152040Z
DTSTART:20260424T193000Z
DTEND:20260424T200000Z
SUMMARY:Memorial Gathering
DESCRIPTION:
URL:https://obits.csnh.com/licene-denys
LOCATION: 243 Hanover Street  Manchester NH 03104
GEO:42.9903818;-71.4571167
END:VEVENT
END:VCALENDAR