BEGIN:VCALENDAR
VERSION:2.0
PRODID:-//Tukios.com/
BEGIN:VEVENT
UID:a86d25f3-c9ce-4bcd-a32d-cfda205e0816@obits.csnh.com
DTSTAMP:20260422T152118Z
DTSTART:20260424T200000Z
DTEND:20260424T210000Z
SUMMARY:Memorial Service
DESCRIPTION:
URL:https://obits.csnh.com/licene-denys
LOCATION:Cremation Society of NH 243 Hanover Street  Manchester NH 03104
GEO:42.9904055;-71.4571038
END:VEVENT
END:VCALENDAR