BEGIN:VCALENDAR
VERSION:2.0
PRODID:-//Tukios.com/
BEGIN:VEVENT
UID:def9f76f-d11f-4d66-9d98-d5ba8b456e8c@obits.csnh.com
DTSTAMP:20260422T151749Z
DTSTART:20260424T210000Z
DTEND:20260424T213000Z
SUMMARY:Memorial Gathering
DESCRIPTION:
URL:https://obits.csnh.com/licene-denys
LOCATION: 243 Hanover Street  Manchester NH 03104
GEO:42.9903818;-71.4571167
END:VEVENT
END:VCALENDAR