BEGIN:VCALENDAR
VERSION:2.0
PRODID:-//Tukios.com/
BEGIN:VEVENT
UID:0ae2a073-7582-44eb-a532-a2c52f109fb0@obits.csnh.com
DTSTAMP:20260421T181310Z
DTSTART:20260425T140000Z
DTEND:20260425T150000Z
SUMMARY:Graveside Service
DESCRIPTION:
URL:https://obits.csnh.com/lucien-breault-sr
LOCATION:Mt Calvary Cemetery 747 Goffstown Road  Manchester NH 03102
GEO:43.0076872;-71.4907453
END:VEVENT
END:VCALENDAR