BEGIN:VCALENDAR
VERSION:2.0
PRODID:-//Tukios.com/
BEGIN:VEVENT
UID:c646765c-e5f8-4fee-8539-b8a2818a1da9@obits.csnh.com
DTSTAMP:20260422T190620Z
DTSTART:20260509T180000Z
DTEND:20260509T190000Z
SUMMARY:Celebration of Life
DESCRIPTION:
URL:https://obits.csnh.com/nancy-rousseau
LOCATION:The Bridge Community Church 65 West Street  Milford NH 03055
GEO:42.8316817;-71.6609552
END:VEVENT
END:VCALENDAR