BEGIN:VCALENDAR
VERSION:2.0
PRODID:-//Tukios.com/
BEGIN:VEVENT
UID:56d79ceb-abd3-4093-86d0-46c9e494957b@obits.csnh.com
DTSTAMP:20260420T194906Z
DTSTART:20260513T150000Z
DTEND:20260513T170000Z
SUMMARY:Celebration of Life
DESCRIPTION:
URL:https://obits.csnh.com/robert-tarpy
LOCATION:Cremation Society of New Hampshire 243 Hanover Street  
	Manchester NH 03104
GEO:42.9904051;-71.4570692
END:VEVENT
END:VCALENDAR